BEGIN:VCALENDAR
VERSION:2.0
PRODID:-//ECORD: European Consortium for Ocean Research Drilling - ECPv6.15.12.2//NONSGML v1.0//EN
CALSCALE:GREGORIAN
METHOD:PUBLISH
X-WR-CALNAME:ECORD: European Consortium for Ocean Research Drilling
X-ORIGINAL-URL:https://www.ecord.org
X-WR-CALDESC:Events for ECORD: European Consortium for Ocean Research Drilling
REFRESH-INTERVAL;VALUE=DURATION:PT1H
X-Robots-Tag:noindex
X-PUBLISHED-TTL:PT1H
BEGIN:VTIMEZONE
TZID:Europe/Paris
BEGIN:DAYLIGHT
TZOFFSETFROM:+0100
TZOFFSETTO:+0200
TZNAME:CEST
DTSTART:20220327T010000
END:DAYLIGHT
BEGIN:STANDARD
TZOFFSETFROM:+0200
TZOFFSETTO:+0100
TZNAME:CET
DTSTART:20221030T010000
END:STANDARD
BEGIN:DAYLIGHT
TZOFFSETFROM:+0100
TZOFFSETTO:+0200
TZNAME:CEST
DTSTART:20230326T010000
END:DAYLIGHT
BEGIN:STANDARD
TZOFFSETFROM:+0200
TZOFFSETTO:+0100
TZNAME:CET
DTSTART:20231029T010000
END:STANDARD
BEGIN:DAYLIGHT
TZOFFSETFROM:+0100
TZOFFSETTO:+0200
TZNAME:CEST
DTSTART:20240331T010000
END:DAYLIGHT
BEGIN:STANDARD
TZOFFSETFROM:+0200
TZOFFSETTO:+0100
TZNAME:CET
DTSTART:20241027T010000
END:STANDARD
BEGIN:DAYLIGHT
TZOFFSETFROM:+0100
TZOFFSETTO:+0200
TZNAME:CEST
DTSTART:20250330T010000
END:DAYLIGHT
BEGIN:STANDARD
TZOFFSETFROM:+0200
TZOFFSETTO:+0100
TZNAME:CET
DTSTART:20251026T010000
END:STANDARD
END:VTIMEZONE
BEGIN:VEVENT
DTSTART;VALUE=DATE:20231002
DTEND;VALUE=DATE:20231003
DTSTAMP:20260424T134059
CREATED:20230309T103814Z
LAST-MODIFIED:20230309T103814Z
UID:17052-1696204800-1696291199@www.ecord.org
SUMMARY:ESSAC
DESCRIPTION:
URL:https://www.ecord.org/ecord-event/essac-2/
LOCATION:France\, France
CATEGORIES:Meetings
END:VEVENT
BEGIN:VEVENT
DTSTART;VALUE=DATE:20231003
DTEND;VALUE=DATE:20231005
DTSTAMP:20260424T134059
CREATED:20230309T103859Z
LAST-MODIFIED:20230309T103859Z
UID:17056-1696291200-1696463999@www.ecord.org
SUMMARY:ECORD Council-ESSAC
DESCRIPTION:
URL:https://www.ecord.org/ecord-event/ecord-council-essac/
LOCATION:France\, France
CATEGORIES:Meetings
END:VEVENT
BEGIN:VEVENT
DTSTART;VALUE=DATE:20231006
DTEND;VALUE=DATE:20231007
DTSTAMP:20260424T134059
CREATED:20230309T103943Z
LAST-MODIFIED:20230309T103943Z
UID:17058-1696550400-1696636799@www.ecord.org
SUMMARY:ECORD Outreach Task Force
DESCRIPTION:
URL:https://www.ecord.org/ecord-event/ecord-outreach-task-force-2/
LOCATION:France\, France
CATEGORIES:Meetings
END:VEVENT
BEGIN:VEVENT
DTSTART;VALUE=DATE:20240314
DTEND;VALUE=DATE:20240316
DTSTAMP:20260424T134059
CREATED:20240303T132413Z
LAST-MODIFIED:20240303T132413Z
UID:19414-1710374400-1710547199@www.ecord.org
SUMMARY:interim MSP Facility Board
DESCRIPTION:
URL:https://www.ecord.org/ecord-event/interim-msp-facility-board/
LOCATION:Kobe\, Japan\, Kobe\, Japan
CATEGORIES:Meetings
END:VEVENT
BEGIN:VEVENT
DTSTART;VALUE=DATE:20240508
DTEND;VALUE=DATE:20240510
DTSTAMP:20260424T134059
CREATED:20240303T132027Z
LAST-MODIFIED:20240303T132027Z
UID:19409-1715126400-1715299199@www.ecord.org
SUMMARY:JR Facility Board
DESCRIPTION:
URL:https://www.ecord.org/ecord-event/jr-facility-board/
LOCATION:Hawaii\, United States
CATEGORIES:Meetings
END:VEVENT
BEGIN:VEVENT
DTSTART;VALUE=DATE:20240528
DTEND;VALUE=DATE:20240531
DTSTAMP:20260424T134059
CREATED:20240303T131420Z
LAST-MODIFIED:20240303T131639Z
UID:19396-1716854400-1717113599@www.ecord.org
SUMMARY:ESSAC
DESCRIPTION:
URL:https://www.ecord.org/ecord-event/essac-3/
LOCATION:Espoo\, Finland
CATEGORIES:Meetings
END:VEVENT
BEGIN:VEVENT
DTSTART;VALUE=DATE:20240618
DTEND;VALUE=DATE:20240620
DTSTAMP:20260424T134059
CREATED:20240303T131532Z
LAST-MODIFIED:20240303T131532Z
UID:19399-1718668800-1718841599@www.ecord.org
SUMMARY:ECORD Council Spring
DESCRIPTION:
URL:https://www.ecord.org/ecord-event/ecord-council-spring-2/
LOCATION:virtual
CATEGORIES:Meetings
END:VEVENT
BEGIN:VEVENT
DTSTART;VALUE=DATE:20240618
DTEND;VALUE=DATE:20240620
DTSTAMP:20260424T134059
CREATED:20240303T132155Z
LAST-MODIFIED:20240303T132155Z
UID:19412-1718668800-1718841599@www.ecord.org
SUMMARY:Science Evaluation Panel
DESCRIPTION:
URL:https://www.ecord.org/ecord-event/science-evaluation-panel-3/
LOCATION:Helsinki\, Finland\, Finland
CATEGORIES:Meetings
END:VEVENT
BEGIN:VEVENT
DTSTART;VALUE=DATE:20240903
DTEND;VALUE=DATE:20240905
DTSTAMP:20260424T134059
CREATED:20240401T192313Z
LAST-MODIFIED:20240401T192313Z
UID:19572-1725321600-1725494399@www.ecord.org
SUMMARY:IODP Forum
DESCRIPTION:
URL:https://www.ecord.org/ecord-event/iodp-forum-4/
LOCATION:Shizuoka\, Japan\, Japan
CATEGORIES:Meetings
END:VEVENT
BEGIN:VEVENT
DTSTART;VALUE=DATE:20240905
DTEND;VALUE=DATE:20240906
DTSTAMP:20260424T134059
CREATED:20240401T192357Z
LAST-MODIFIED:20240401T192357Z
UID:19575-1725494400-1725580799@www.ecord.org
SUMMARY:PMO Meeting
DESCRIPTION:
URL:https://www.ecord.org/ecord-event/pmo-meeting-4/
LOCATION:Shizuoka\, Japan\, Japan
CATEGORIES:Meetings
END:VEVENT
BEGIN:VEVENT
DTSTART;VALUE=DATE:20241028
DTEND;VALUE=DATE:20241029
DTSTAMP:20260424T134059
CREATED:20240303T131738Z
LAST-MODIFIED:20240303T131738Z
UID:19402-1730073600-1730159999@www.ecord.org
SUMMARY:ESSAC
DESCRIPTION:
URL:https://www.ecord.org/ecord-event/essac-4/
LOCATION:Oslo\, Norway
CATEGORIES:Meetings
END:VEVENT
BEGIN:VEVENT
DTSTART;VALUE=DATE:20241029
DTEND;VALUE=DATE:20241031
DTSTAMP:20260424T134059
CREATED:20240303T131839Z
LAST-MODIFIED:20240303T131839Z
UID:19405-1730160000-1730332799@www.ecord.org
SUMMARY:ECORD Council-ESSAC
DESCRIPTION:
URL:https://www.ecord.org/ecord-event/ecord-council-essac-2/
LOCATION:Oslo\, Norway
CATEGORIES:Meetings
END:VEVENT
BEGIN:VEVENT
DTSTART;VALUE=DATE:20241101
DTEND;VALUE=DATE:20241102
DTSTAMP:20260424T134059
CREATED:20240303T131924Z
LAST-MODIFIED:20240303T131924Z
UID:19407-1730419200-1730505599@www.ecord.org
SUMMARY:ECORD Outreach Task Force
DESCRIPTION:
URL:https://www.ecord.org/ecord-event/ecord-outreach-task-force-3/
LOCATION:Oslo\, Norway
CATEGORIES:Meetings
END:VEVENT
END:VCALENDAR