BEGIN:VCALENDAR
VERSION:2.0
PRODID:-//ECORD: European Consortium for Ocean Research Drilling - ECPv6.15.12.2//NONSGML v1.0//EN
CALSCALE:GREGORIAN
METHOD:PUBLISH
X-WR-CALNAME:ECORD: European Consortium for Ocean Research Drilling
X-ORIGINAL-URL:https://www.ecord.org
X-WR-CALDESC:Events for ECORD: European Consortium for Ocean Research Drilling
REFRESH-INTERVAL;VALUE=DURATION:PT1H
X-Robots-Tag:noindex
X-PUBLISHED-TTL:PT1H
BEGIN:VTIMEZONE
TZID:Europe/Paris
BEGIN:DAYLIGHT
TZOFFSETFROM:+0100
TZOFFSETTO:+0200
TZNAME:CEST
DTSTART:20230326T010000
END:DAYLIGHT
BEGIN:STANDARD
TZOFFSETFROM:+0200
TZOFFSETTO:+0100
TZNAME:CET
DTSTART:20231029T010000
END:STANDARD
BEGIN:DAYLIGHT
TZOFFSETFROM:+0100
TZOFFSETTO:+0200
TZNAME:CEST
DTSTART:20240331T010000
END:DAYLIGHT
BEGIN:STANDARD
TZOFFSETFROM:+0200
TZOFFSETTO:+0100
TZNAME:CET
DTSTART:20241027T010000
END:STANDARD
BEGIN:DAYLIGHT
TZOFFSETFROM:+0100
TZOFFSETTO:+0200
TZNAME:CEST
DTSTART:20250330T010000
END:DAYLIGHT
BEGIN:STANDARD
TZOFFSETFROM:+0200
TZOFFSETTO:+0100
TZNAME:CET
DTSTART:20251026T010000
END:STANDARD
END:VTIMEZONE
BEGIN:VEVENT
DTSTART;VALUE=DATE:20241028
DTEND;VALUE=DATE:20241029
DTSTAMP:20260424T152826
CREATED:20240303T131738Z
LAST-MODIFIED:20240303T131738Z
UID:19402-1730073600-1730159999@www.ecord.org
SUMMARY:ESSAC
DESCRIPTION:
URL:https://www.ecord.org/ecord-event/essac-4/
LOCATION:Oslo\, Norway
CATEGORIES:Meetings
END:VEVENT
BEGIN:VEVENT
DTSTART;VALUE=DATE:20241029
DTEND;VALUE=DATE:20241031
DTSTAMP:20260424T152826
CREATED:20240303T131839Z
LAST-MODIFIED:20240303T131839Z
UID:19405-1730160000-1730332799@www.ecord.org
SUMMARY:ECORD Council-ESSAC
DESCRIPTION:
URL:https://www.ecord.org/ecord-event/ecord-council-essac-2/
LOCATION:Oslo\, Norway
CATEGORIES:Meetings
END:VEVENT
BEGIN:VEVENT
DTSTART;VALUE=DATE:20241101
DTEND;VALUE=DATE:20241102
DTSTAMP:20260424T152826
CREATED:20240303T131924Z
LAST-MODIFIED:20240303T131924Z
UID:19407-1730419200-1730505599@www.ecord.org
SUMMARY:ECORD Outreach Task Force
DESCRIPTION:
URL:https://www.ecord.org/ecord-event/ecord-outreach-task-force-3/
LOCATION:Oslo\, Norway
CATEGORIES:Meetings
END:VEVENT
END:VCALENDAR